BEGIN:VCALENDAR
VERSION:2.0
PRODID:-//Arloesi Dolgellau - ECPv6.15.20//NONSGML v1.0//EN
CALSCALE:GREGORIAN
METHOD:PUBLISH
X-WR-CALNAME:Arloesi Dolgellau
X-ORIGINAL-URL:https://arloesidolgellau.com
X-WR-CALDESC:Events for Arloesi Dolgellau
REFRESH-INTERVAL;VALUE=DURATION:PT1H
X-Robots-Tag:noindex
X-PUBLISHED-TTL:PT1H
BEGIN:VTIMEZONE
TZID:Europe/London
BEGIN:DAYLIGHT
TZOFFSETFROM:+0000
TZOFFSETTO:+0100
TZNAME:BST
DTSTART:20240331T010000
END:DAYLIGHT
BEGIN:STANDARD
TZOFFSETFROM:+0100
TZOFFSETTO:+0000
TZNAME:GMT
DTSTART:20241027T010000
END:STANDARD
BEGIN:DAYLIGHT
TZOFFSETFROM:+0000
TZOFFSETTO:+0100
TZNAME:BST
DTSTART:20250330T010000
END:DAYLIGHT
BEGIN:STANDARD
TZOFFSETFROM:+0100
TZOFFSETTO:+0000
TZNAME:GMT
DTSTART:20251026T010000
END:STANDARD
BEGIN:DAYLIGHT
TZOFFSETFROM:+0000
TZOFFSETTO:+0100
TZNAME:BST
DTSTART:20260329T010000
END:DAYLIGHT
BEGIN:STANDARD
TZOFFSETFROM:+0100
TZOFFSETTO:+0000
TZNAME:GMT
DTSTART:20261025T010000
END:STANDARD
END:VTIMEZONE
BEGIN:VEVENT
DTSTART;TZID=Europe/London:20250920T120000
DTEND;TZID=Europe/London:20250920T150000
DTSTAMP:20260421T105503
CREATED:20250901T185414Z
LAST-MODIFIED:20250901T191349Z
UID:34187-1758369600-1758380400@arloesidolgellau.com
SUMMARY:Stash Busting Craft Exchange
DESCRIPTION:Buy Swap and Sell \n \nGot craft supplies you no longer need? \nPiles of fabric you won’t use? \nLeftover balls of yarn? \n \nBring your unwanted craft supplies and give them a new life! \n \nWant to try a new craft? \nNeed fabrics for patchwork or small projects? \nInterested in trying crochet or knitting? \n \nCome along and pick up supplies and tips from other crafters! 
URL:https://arloesidolgellau.com/event/stash-busting-craft-exchange-2
LOCATION:Arloesi Dolgellau
CATEGORIES:Makerspace
ATTACH;FMTTYPE=image/png:https://arloesidolgellau.com/wp-content/uploads/2025/09/BANNERS-09-scaled-V5IkZL.png
END:VEVENT
END:VCALENDAR