BEGIN:VCALENDAR
VERSION:2.0
PRODID:-//Arloesi Dolgellau - ECPv6.15.20//NONSGML v1.0//EN
CALSCALE:GREGORIAN
METHOD:PUBLISH
X-WR-CALNAME:Arloesi Dolgellau
X-ORIGINAL-URL:https://arloesidolgellau.com
X-WR-CALDESC:Events for Arloesi Dolgellau
REFRESH-INTERVAL;VALUE=DURATION:PT1H
X-Robots-Tag:noindex
X-PUBLISHED-TTL:PT1H
BEGIN:VTIMEZONE
TZID:Europe/London
BEGIN:STANDARD
TZOFFSETFROM:+0000
TZOFFSETTO:+0000
TZNAME:GMT
DTSTART:20260101T000000
END:STANDARD
END:VTIMEZONE
BEGIN:VEVENT
DTSTART;TZID=Europe/London:20260421T180609
DTEND;TZID=Europe/London:20260421T180609
DTSTAMP:20260421T180609
CREATED:20251026T234053Z
LAST-MODIFIED:20260309T123705Z
UID:34498-0-0@arloesidolgellau.com
SUMMARY:Design Studio
DESCRIPTION:These bookable sessions with our resident designer are intended to help you develop a design idea\, or troubleshoot an issue. Using professional creative software we can help anyone from small business owners to someone planning a wedding.
URL:https://arloesidolgellau.com/event/design-studio-3
LOCATION:Arloesi Dolgellau
CATEGORIES:Education,Innovation,Makerspace
ATTACH;FMTTYPE=image/png:https://arloesidolgellau.com/wp-content/uploads/2025/10/DESIGN-STUDIO_FB-EVENT-scaled-i6YuKz.png
END:VEVENT
BEGIN:VEVENT
DTSTART;TZID=Europe/London:00251101T100000
DTEND;TZID=Europe/London:00251101T130000
DTSTAMP:20260421T180609
CREATED:20251026T235025Z
LAST-MODIFIED:20251116T191828Z
UID:34564--61351912800--61351902000@arloesidolgellau.com
SUMMARY:Tech Drop In
DESCRIPTION:Learn the basics of our kit in these bookable 1 hour support sessions. Every Friday 11 – 2 in October.  See our equipment list here -> https://arloesidolgellau.com/home/equipment-and-resouces
URL:https://arloesidolgellau.com/event/tech-drop-in-12
LOCATION:Arloesi Dolgellau
CATEGORIES:Education
ATTACH;FMTTYPE=image/png:https://arloesidolgellau.com/wp-content/uploads/2025/10/121-TECH-scaled-TPOyHH.png
END:VEVENT
BEGIN:VEVENT
DTSTART;TZID=Europe/London:00250111T100000
DTEND;TZID=Europe/London:00250111T130000
DTSTAMP:20260421T180609
CREATED:20251026T234532Z
LAST-MODIFIED:20251026T234532Z
UID:34541--61377314400--61377303600@arloesidolgellau.com
SUMMARY:Tech Drop In
DESCRIPTION:Learn the basics of our kit in these bookable 1 hour support sessions. Every Friday 11 – 2 in October.  See our equipment list here -> https://arloesidolgellau.com/home/equipment-and-resouces
URL:https://arloesidolgellau.com/event/tech-drop-in-11
LOCATION:Arloesi Dolgellau
CATEGORIES:Education
ATTACH;FMTTYPE=image/png:https://arloesidolgellau.com/wp-content/uploads/2025/10/121-TECH-scaled-TPOyHH.png
END:VEVENT
END:VCALENDAR