BEGIN:VCALENDAR
VERSION:2.0
PRODID:-//Arloesi Dolgellau - ECPv6.15.20//NONSGML v1.0//EN
CALSCALE:GREGORIAN
METHOD:PUBLISH
X-WR-CALNAME:Arloesi Dolgellau
X-ORIGINAL-URL:https://arloesidolgellau.com
X-WR-CALDESC:Events for Arloesi Dolgellau
REFRESH-INTERVAL;VALUE=DURATION:PT1H
X-Robots-Tag:noindex
X-PUBLISHED-TTL:PT1H
BEGIN:VTIMEZONE
TZID:Europe/London
BEGIN:DAYLIGHT
TZOFFSETFROM:+0000
TZOFFSETTO:+0100
TZNAME:BST
DTSTART:20250330T010000
END:DAYLIGHT
BEGIN:STANDARD
TZOFFSETFROM:+0100
TZOFFSETTO:+0000
TZNAME:GMT
DTSTART:20251026T010000
END:STANDARD
BEGIN:DAYLIGHT
TZOFFSETFROM:+0000
TZOFFSETTO:+0100
TZNAME:BST
DTSTART:20260329T010000
END:DAYLIGHT
BEGIN:STANDARD
TZOFFSETFROM:+0100
TZOFFSETTO:+0000
TZNAME:GMT
DTSTART:20261025T010000
END:STANDARD
BEGIN:DAYLIGHT
TZOFFSETFROM:+0000
TZOFFSETTO:+0100
TZNAME:BST
DTSTART:20270328T010000
END:DAYLIGHT
BEGIN:STANDARD
TZOFFSETFROM:+0100
TZOFFSETTO:+0000
TZNAME:GMT
DTSTART:20271031T010000
END:STANDARD
END:VTIMEZONE
BEGIN:VEVENT
DTSTART;TZID=Europe/London:20260302T100000
DTEND;TZID=Europe/London:20260302T120000
DTSTAMP:20260423T105020
CREATED:20260131T153725Z
LAST-MODIFIED:20260309T124410Z
UID:35127-1772445600-1772452800@arloesidolgellau.com
SUMMARY:Tech Drop In
DESCRIPTION:Want to learn how to use a 3D printer? Interested in making stickers? Would you like to learn how to use a sewing machine? Book a 1-2-1 session and we’ll show you how! Click the Eventbrite link in bio.
URL:https://arloesidolgellau.com/event/tech-drop-in-51
LOCATION:Arloesi Dolgellau
CATEGORIES:Education,Innovation,Makerspace
ATTACH;FMTTYPE=image/png:https://arloesidolgellau.com/wp-content/uploads/2026/01/121_EVENTBRITE-05-scaled-bHCDdi.png
END:VEVENT
BEGIN:VEVENT
DTSTART;TZID=Europe/London:20260304T133000
DTEND;TZID=Europe/London:20260304T153000
DTSTAMP:20260423T105020
CREATED:20260309T124412Z
LAST-MODIFIED:20260309T124412Z
UID:35279-1772631000-1772638200@arloesidolgellau.com
SUMMARY:Design Studio
DESCRIPTION:These bookable sessions with our resident designer are intended to help you develop a design idea\, or troubleshoot an issue. Using professional creative software we can help anyone from small business owners to someone planning a wedding.
URL:https://arloesidolgellau.com/event/design-studio-23
LOCATION:Arloesi Dolgellau
CATEGORIES:Education,Innovation,Makerspace
ATTACH;FMTTYPE=image/png:https://arloesidolgellau.com/wp-content/uploads/2025/10/DESIGN-STUDIO_FB-EVENT-scaled-i6YuKz.png
END:VEVENT
BEGIN:VEVENT
DTSTART;TZID=Europe/London:20260307T100000
DTEND;TZID=Europe/London:20260307T120000
DTSTAMP:20260423T105020
CREATED:20260309T124413Z
LAST-MODIFIED:20260309T124413Z
UID:35282-1772877600-1772884800@arloesidolgellau.com
SUMMARY:Tech Drop In
DESCRIPTION:
URL:https://arloesidolgellau.com/event/tech-drop-in-55
LOCATION:Arloesi Dolgellau
CATEGORIES:Education,Innovation,Makerspace
END:VEVENT
BEGIN:VEVENT
DTSTART;TZID=Europe/London:20260309T100000
DTEND;TZID=Europe/London:20260309T120000
DTSTAMP:20260423T105020
CREATED:20260309T124428Z
LAST-MODIFIED:20260309T124428Z
UID:35285-1773050400-1773057600@arloesidolgellau.com
SUMMARY:Tech Drop In
DESCRIPTION:Want to learn how to use a 3D printer? Interested in making stickers? Would you like to learn how to use a sewing machine? Book a 1-2-1 session and we’ll show you how! Click the Eventbrite link in bio.
URL:https://arloesidolgellau.com/event/tech-drop-in-56
LOCATION:Arloesi Dolgellau
CATEGORIES:Education,Innovation,Makerspace
ATTACH;FMTTYPE=image/png:https://arloesidolgellau.com/wp-content/uploads/2026/01/121_EVENTBRITE-05-scaled-bHCDdi.png
END:VEVENT
BEGIN:VEVENT
DTSTART;TZID=Europe/London:20260311T130000
DTEND;TZID=Europe/London:20260311T150000
DTSTAMP:20260423T105020
CREATED:20260309T124459Z
LAST-MODIFIED:20260309T125039Z
UID:35289-1773234000-1773241200@arloesidolgellau.com
SUMMARY:Built a Bat Box!
DESCRIPTION:
URL:https://arloesidolgellau.com/event/built-a-bat-box-2
LOCATION:Arloesi Dolgellau
CATEGORIES:Education,Innovation,Makerspace
ATTACH;FMTTYPE=image/png:https://arloesidolgellau.com/wp-content/uploads/2026/03/BATS-3.png
END:VEVENT
BEGIN:VEVENT
DTSTART;TZID=Europe/London:20260314T100000
DTEND;TZID=Europe/London:20260314T160000
DTSTAMP:20260423T105020
CREATED:20260309T124459Z
LAST-MODIFIED:20260309T125259Z
UID:35292-1773482400-1773504000@arloesidolgellau.com
SUMMARY:Prosiect Llai Session
DESCRIPTION:
URL:https://arloesidolgellau.com/event/prosiect-llai-session-2
LOCATION:Arloesi Dolgellau
CATEGORIES:Education,Innovation,Makerspace
ATTACH;FMTTYPE=image/jpeg:https://arloesidolgellau.com/wp-content/uploads/2025/09/Logo_Llai-2-sgwar-1.jpg
END:VEVENT
BEGIN:VEVENT
DTSTART;TZID=Europe/London:20260316T100000
DTEND;TZID=Europe/London:20260316T120000
DTSTAMP:20260423T105020
CREATED:20260309T124514Z
LAST-MODIFIED:20260309T124514Z
UID:35294-1773655200-1773662400@arloesidolgellau.com
SUMMARY:Tech Drop In
DESCRIPTION:Want to learn how to use a 3D printer? Interested in making stickers? Would you like to learn how to use a sewing machine? Book a 1-2-1 session and we’ll show you how! Click the Eventbrite link in bio.
URL:https://arloesidolgellau.com/event/tech-drop-in-57
LOCATION:Arloesi Dolgellau
CATEGORIES:Education,Innovation,Makerspace
ATTACH;FMTTYPE=image/png:https://arloesidolgellau.com/wp-content/uploads/2026/01/121_EVENTBRITE-05-scaled-bHCDdi.png
END:VEVENT
BEGIN:VEVENT
DTSTART;TZID=Europe/London:20260318T133000
DTEND;TZID=Europe/London:20260318T153000
DTSTAMP:20260423T105020
CREATED:20260309T124515Z
LAST-MODIFIED:20260309T124515Z
UID:35298-1773840600-1773847800@arloesidolgellau.com
SUMMARY:Design Studio
DESCRIPTION:These bookable sessions with our resident designer are intended to help you develop a design idea\, or troubleshoot an issue. Using professional creative software we can help anyone from small business owners to someone planning a wedding.
URL:https://arloesidolgellau.com/event/design-studio-24
LOCATION:Arloesi Dolgellau
CATEGORIES:Education,Innovation,Makerspace
ATTACH;FMTTYPE=image/png:https://arloesidolgellau.com/wp-content/uploads/2025/10/DESIGN-STUDIO_FB-EVENT-scaled-i6YuKz.png
END:VEVENT
BEGIN:VEVENT
DTSTART;TZID=Europe/London:20260323T100000
DTEND;TZID=Europe/London:20260323T120000
DTSTAMP:20260423T105020
CREATED:20260309T124544Z
LAST-MODIFIED:20260309T124544Z
UID:35304-1774260000-1774267200@arloesidolgellau.com
SUMMARY:Tech Drop In
DESCRIPTION:Want to learn how to use a 3D printer? Interested in making stickers? Would you like to learn how to use a sewing machine? Book a 1-2-1 session and we’ll show you how! Click the Eventbrite link in bio.
URL:https://arloesidolgellau.com/event/tech-drop-in-58
LOCATION:Arloesi Dolgellau
CATEGORIES:Education,Innovation,Makerspace
ATTACH;FMTTYPE=image/png:https://arloesidolgellau.com/wp-content/uploads/2026/01/121_EVENTBRITE-05-scaled-bHCDdi.png
END:VEVENT
BEGIN:VEVENT
DTSTART;TZID=Europe/London:20260325T133000
DTEND;TZID=Europe/London:20260325T153000
DTSTAMP:20260423T105020
CREATED:20260309T124545Z
LAST-MODIFIED:20260309T124545Z
UID:35308-1774445400-1774452600@arloesidolgellau.com
SUMMARY:Design Studio
DESCRIPTION:These bookable sessions with our resident designer are intended to help you develop a design idea\, or troubleshoot an issue. Using professional creative software we can help anyone from small business owners to someone planning a wedding.
URL:https://arloesidolgellau.com/event/design-studio-25
LOCATION:Arloesi Dolgellau
CATEGORIES:Education,Innovation,Makerspace
ATTACH;FMTTYPE=image/png:https://arloesidolgellau.com/wp-content/uploads/2025/10/DESIGN-STUDIO_FB-EVENT-scaled-i6YuKz.png
END:VEVENT
BEGIN:VEVENT
DTSTART;TZID=Europe/London:20260330T100000
DTEND;TZID=Europe/London:20260330T120000
DTSTAMP:20260423T105020
CREATED:20260309T124600Z
LAST-MODIFIED:20260309T124600Z
UID:35313-1774864800-1774872000@arloesidolgellau.com
SUMMARY:Tech Drop In
DESCRIPTION:Want to learn how to use a 3D printer? Interested in making stickers? Would you like to learn how to use a sewing machine? Book a 1-2-1 session and we’ll show you how! Click the Eventbrite link in bio.
URL:https://arloesidolgellau.com/event/tech-drop-in-59
LOCATION:Arloesi Dolgellau
CATEGORIES:Education,Innovation,Makerspace
END:VEVENT
END:VCALENDAR